BEGIN:VCALENDAR
VERSION:2.0
PRODID:-//Squarespace Inc/Squarespace 6//v6//EN
BEGIN:VEVENT
UID:5c984e155bfa3f00018a250d@squarespace.com
DTSTAMP:20190502T084159Z
DTSTART:20190404T221500Z
DTEND:20190404T230000Z
SUMMARY:SOPHIE MAURICE
END:VEVENT
END:VCALENDAR
