BEGIN:VCALENDAR
VERSION:2.0
PRODID:-//Squarespace Inc/Squarespace 6//v6//EN
BEGIN:VEVENT
UID:5c98558c104c7b7aecb1fa05@squarespace.com
DTSTAMP:20190325T042014Z
DTSTART:20190328T230000Z
DTEND:20190329T010000Z
SUMMARY:CANBERRA RNB COLLECTIVE
END:VEVENT
END:VCALENDAR
