BEGIN:VCALENDAR
VERSION:2.0
PRODID:-//Squarespace Inc/Squarespace 6//v6//EN
BEGIN:VEVENT
UID:5c9856fef4e1fc13f2381b76@squarespace.com
DTSTAMP:20190325T042033Z
DTSTART:20190404T230000Z
DTEND:20190405T010000Z
SUMMARY:CANBERRA RNB COLLECTIVE
END:VEVENT
END:VCALENDAR
