BEGIN:VCALENDAR
VERSION:2.0
PRODID:-//Squarespace Inc/Squarespace 6//v6//EN
BEGIN:VEVENT
UID:5c6e30fb971a18156baa0562@squarespace.com
DTSTAMP:20190502T061908Z
DTSTART:20190323T203000Z
DTEND:20190323T233000Z
SUMMARY:ELLA HUNT
END:VEVENT
END:VCALENDAR
