BEGIN:VCALENDAR
VERSION:2.0
PRODID:-//Squarespace Inc/Squarespace 6//v6//EN
BEGIN:VEVENT
UID:5cca8e5b4192026505bac223@squarespace.com
DTSTAMP:20190502T063010Z
DTSTART:20190531T203000Z
DTEND:20190531T233000Z
SUMMARY:NICK RIGBY
END:VEVENT
END:VCALENDAR
