BEGIN:VCALENDAR
VERSION:2.0
PRODID:-//Squarespace Inc/Squarespace 6//v6//EN
BEGIN:VEVENT
UID:5cca8e1115fcc0e1edb41d43@squarespace.com
DTSTAMP:20190502T062937Z
DTSTART:20190524T203000Z
DTEND:20190524T233000Z
SUMMARY:WILL CAMPBELL
END:VEVENT
END:VCALENDAR
